BEGIN:VCALENDAR
VERSION:2.0
PRODID:icalendar-ruby
CALSCALE:GREGORIAN
METHOD:PUBLISH
BEGIN:VEVENT
DTSTAMP:20260425T155431Z
UID:7-321961@trinitypointchurch.com
DTSTART:20260823T153000Z
DTEND:20260823T163000Z
CLASS:PUBLIC
CREATED:20260425T101119
DESCRIPTION:
LAST-MODIFIED:20260425T101119
LOCATION:6750 Baker Boulevard\, Richland Hills\, Texas
SUMMARY:Worship Service
URL;VALUE=URI:https://www.trinitypointchurch.com/events/worship-service--7/
 2026-08-23
ATTACH;FILENAME=lampos-aritonang-9BHvgvzGAbI-unsplash.jpg;FMTTYPE=image/jpe
 g:https://dq5pwpg1q8ru0.cloudfront.net/2025/07/09/06/50/26/5f3db43a-4747-4
 a1e-bfab-cfc1589ae25f/lampos-aritonang-9BHvgvzGAbI-unsplash.jpg
END:VEVENT
END:VCALENDAR
