BEGIN:VCALENDAR
VERSION:2.0
PRODID:icalendar-ruby
CALSCALE:GREGORIAN
METHOD:PUBLISH
BEGIN:VEVENT
DTSTAMP:20260425T114504Z
UID:6-321608@trinitypointchurch.com
DTSTART:20260802T150000Z
DTEND:20260802T153000Z
CLASS:PUBLIC
CREATED:20260424T214645
DESCRIPTION:
LAST-MODIFIED:20260424T214645
LOCATION:6750 Baker Boulevard\, Richland Hills\, Texas
SUMMARY:Prayer Service
URL;VALUE=URI:https://www.trinitypointchurch.com/events/prayer-service/2026
 -08-02
ATTACH;FILENAME=jeremy-yap-eCEj-BR91xQ-unsplash.jpg;FMTTYPE=image/jpeg:http
 s://dq5pwpg1q8ru0.cloudfront.net/2025/07/09/06/50/58/93beca4e-de69-4f44-90
 99-763a9d90db10/jeremy-yap-eCEj-BR91xQ-unsplash.jpg
END:VEVENT
END:VCALENDAR
